BEGIN:VCALENDAR
VERSION:2.0
PRODID:-//Володимир - ECPv6.2.8.1//NONSGML v1.0//EN
CALSCALE:GREGORIAN
METHOD:PUBLISH
X-WR-CALNAME:Володимир
X-ORIGINAL-URL:https://volodymyr.travel
X-WR-CALDESC:Events for Володимир
REFRESH-INTERVAL;VALUE=DURATION:PT1H
X-Robots-Tag:noindex
X-PUBLISHED-TTL:PT1H
BEGIN:VTIMEZONE
TZID:Europe/Kiev
BEGIN:DAYLIGHT
TZOFFSETFROM:+0200
TZOFFSETTO:+0300
TZNAME:EEST
DTSTART:20240331T010000
END:DAYLIGHT
BEGIN:STANDARD
TZOFFSETFROM:+0300
TZOFFSETTO:+0200
TZNAME:EET
DTSTART:20241027T010000
END:STANDARD
BEGIN:DAYLIGHT
TZOFFSETFROM:+0200
TZOFFSETTO:+0300
TZNAME:EEST
DTSTART:20250330T010000
END:DAYLIGHT
BEGIN:STANDARD
TZOFFSETFROM:+0300
TZOFFSETTO:+0200
TZNAME:EET
DTSTART:20251026T010000
END:STANDARD
END:VTIMEZONE
BEGIN:VEVENT
DTSTART;TZID=Europe/Kiev:20240401T080000
DTEND;TZID=Europe/Kiev:20241101T170000
DTSTAMP:20260420T032235
CREATED:20240718T093306Z
LAST-MODIFIED:20251110T073940Z
UID:3908-1711958400-1730480400@volodymyr.travel
SUMMARY:Велопрокат у м.Володимир
DESCRIPTION:Велосипед- це не просто зручний спосіб пересування по місту або можливість насолодитися природою на свіжому повітрі. Це цілий стиль життя для тих\, хто цінує свободу\, здоров’я та екологічність. \nПереваги пересування на велосипеді: \n\nЗручність: Візьміть велосипед на декілька годин або на цілий день – вам не потрібно турбуватися про паркування чи витрати на пальне.\nЕкологічність: Велосипед не викидає забруднюючих речовин\, що допомагає зберегти навколишнє середовище.\nФізична активність: Катання на велосипеді – це не лише транспорт\, а й чудова фізична активність\, що покращує загальний стан здоров’я та підвищує рівень енергії.\nЕкономічність: Велопрокат є вигідною альтернативою таксі чи громадському транспорту\, особливо для коротких поїздок.\n\nДе у Володимирі можна орендувати велосипед?\nКП “ТІЦ Володимирської міської ради”\, вул.Данила Галицького\,7 \n1 година – 50 гривень\,\n1 день (8.00-17.00 год.) – 180 гривень\,\n1 доба – 250 гривень.\nЯк скористатися велопрокатом: \n\nПрийти до туристично-інформаційного центру з паспортом або ID карткою;\nУкласти договір оренди;\nНасолоджуватись прогулянкою на велосипеді 🙂
URL:https://volodymyr.travel/event/veloprokat-u-m-volodymyr/
CATEGORIES:Заходи та свята
ATTACH;FMTTYPE=image/jpeg:https://volodymyr.travel/wp-content/uploads/2024/07/284117659_384298390424843_5851844688699696782_n.jpg
END:VEVENT
BEGIN:VEVENT
DTSTART;VALUE=DATE:20240601
DTEND;VALUE=DATE:20241101
DTSTAMP:20260420T032235
CREATED:20240618T085346Z
LAST-MODIFIED:20240903T162833Z
UID:3898-1717200000-1730419199@volodymyr.travel
SUMMARY:Екскурсії червень 2024
DESCRIPTION:Червень – ідеальний час для екскурсій! Тепле сонце та довгі дні дозволяють насолоджуватись природою та культурними пам’ятками. Завершення навчального року у школярів гарна пора для мандрівок та пізнання навколишнього середовища. \nВже традиційно кінець травня та початок червня – це час насичених шкільних екскурсій.Цього року серед юних мандрівників було багато зацікавлених в історії міста Володимира та бажаючих пізнати маршрут “Таємниці міських підземель”.
URL:https://volodymyr.travel/event/ekskursiyi-cherven-2024/
ATTACH;FMTTYPE=image/jpeg:https://volodymyr.travel/wp-content/uploads/2024/07/photo_2024-07-18_11-35-05-e1721293735468.jpg
END:VEVENT
BEGIN:VEVENT
DTSTART;TZID=Europe/Kiev:20251018T100000
DTEND;TZID=Europe/Kiev:20251018T170000
DTSTAMP:20260420T032235
CREATED:20251111T105528Z
LAST-MODIFIED:20251111T105735Z
UID:4337-1760781600-1760806800@volodymyr.travel
SUMMARY:ТУР ВИХІДНОГО ДНЯ НА РАВЛИКОВУ ФЕРМУ
DESCRIPTION: Запрошуємо вас у смачну та пізнавальну подорож на равликову ферму!\n\n\nУ вартість входить:\n екскурсія по фермі\n дегустація делікатесів\n трансфер Володимир – Сокиричі – Володимир\n\n\n Дата: 18 жовтня\n Виїзд: 10:00\n\n\nЗа деталями пишіть у дірект або телефонуйте за номером (063) 621 00 19.\n\n\nПопередня реєстрація ОБОВʼЯЗКОВА!\n\n\nКількість місць обмежена\, тому не проґавте нагоду провести вихідний цікаво та смачно!\n\n\n#володимир #тіц #містотвоєїісторії #турвихідногодня
URL:https://volodymyr.travel/event/tur-vyhidnogo-dnya-na-ravlykovu-fermu/
CATEGORIES:Заходи та свята
ATTACH;FMTTYPE=image/jpeg:https://volodymyr.travel/wp-content/uploads/2025/11/558433522_18066087677601685_4336584805117804_n.jpg
END:VEVENT
END:VCALENDAR