BEGIN:VCALENDAR
VERSION:2.0
PRODID:-//Володимир - ECPv6.2.8.1//NONSGML v1.0//EN
CALSCALE:GREGORIAN
METHOD:PUBLISH
X-ORIGINAL-URL:https://volodymyr.travel
X-WR-CALDESC:Events for Володимир
REFRESH-INTERVAL;VALUE=DURATION:PT1H
X-Robots-Tag:noindex
X-PUBLISHED-TTL:PT1H
BEGIN:VTIMEZONE
TZID:UTC
BEGIN:STANDARD
TZOFFSETFROM:+0000
TZOFFSETTO:+0000
TZNAME:UTC
DTSTART:20240101T000000
END:STANDARD
END:VTIMEZONE
BEGIN:VEVENT
DTSTART;TZID=UTC:20240213T120000
DTEND;TZID=UTC:20240217T153000
DTSTAMP:20260424T192426
CREATED:20240213T100528Z
LAST-MODIFIED:20240213T100705Z
UID:3397-1707825600-1708183800@volodymyr.travel
SUMMARY:Екскурсія
DESCRIPTION:Готові подосліджувати різні куточки Волині? \nСтародавнє місто Ладомир (давня назва міста Володимир) було розташоване у південній частині сучасного міста і мало вигляд неправильного п’ятикутника.\nКожен куточок буквально просочений історією: величезна кількість пам’яток архітектури заворожує й захоплює. \nЗапрошуємо на екскурсію 17 лютого о 12:00\, де зануримось в захоплюючу подорож Володимиром: оглянемо місто\, відвідаємо храми\, підземелля та майстерні. \nЦе чудова можливість\, аби пізнавати себе за допомогою історії та усвідомити важливість розвитку власного регіону  \nРеєстрація за посиланням в коментарях профілю\, місця розбирають дуже швидко\, тому поспішай\, аби залишились  \nЗустрічаємось у місті Володимир\, всі деталі надішлемо зарєєстрованим учасникам. \nПроєкт реалізовується за фінансової підтримки програмою «Culture Helps / Культура допомагає»\, яка імплементується Іншою Освітою спільно з zusa за підтримки Європейського Союзу. \nПосилання: https://docs.google.com/forms/d/e/1FAIpQLSe2fTrHwdVnK8fXp_XXTCVseb061EUKoSrI7-qWl2yLz4-FAg/viewform
URL:https://volodymyr.travel/event/ekskursiya-2/
ATTACH;FMTTYPE=image/jpeg:https://volodymyr.travel/wp-content/uploads/2024/02/424926721_879505837513958_6616690254913291709_n.jpg
END:VEVENT
END:VCALENDAR